BEGIN:VCALENDAR
VERSION:2.0
PRODID:icalendar-ruby
CALSCALE:GREGORIAN
METHOD:PUBLISH
BEGIN:VEVENT
DTSTAMP:20260424T142359Z
UID:6-403414@lakeshore-umc.org
DTSTART:20260428T140000Z
DTEND:20260428T163000Z
CLASS:PUBLIC
CREATED:20260423T141352
DESCRIPTION:Lake Shore UMC is hosting an event on April 28th from 10:00-12:
 30pm with lunch afterwards.\nGuest Speaker: Rose Mary Marshall\nBring some
 thing with you that represents Gods Love within you.\n 
LAST-MODIFIED:20260423T141352
LOCATION:388 Avon Belden Rd
SUMMARY:Women of Faith Retreat
URL;VALUE=URI:https://lakeshore-umc.org/events/women-of-faith-retreat/2026-
 04-28
ATTACH;FILENAME=IMG_2296.jpeg;FMTTYPE=image/jpeg:https://dq5pwpg1q8ru0.clou
 dfront.net/2026/04/23/18/13/51/7b63e2d6-bd8a-4036-bf05-6fffc5e22587/IMG_22
 96.jpeg
END:VEVENT
END:VCALENDAR
