BEGIN:VCALENDAR
VERSION:2.0
PRODID:icalendar-ruby
CALSCALE:GREGORIAN
METHOD:PUBLISH
BEGIN:VEVENT
DTSTAMP:20260423T123517Z
UID:6-402890@lakeshore-umc.org
DTSTART:20260427T140000Z
DTEND:20260427T170000Z
CLASS:PUBLIC
CREATED:20260422T232743
DESCRIPTION:
LAST-MODIFIED:20260422T232743
LOCATION:388 Avon Belden Rd
SUMMARY:Women of Faith Retreat
URL;VALUE=URI:https://lakeshore-umc.org/events/women-of-faith-retreat/2026-
 04-27
END:VEVENT
END:VCALENDAR
